﻿BEGIN:VCALENDAR
VERSION:2.0
PRODID:-//Guía Eslovaquia - ECPv4.9.14//NONSGML v1.0//EN
CALSCALE:GREGORIAN
METHOD:PUBLISH
X-WR-CALNAME:Guía Eslovaquia
X-ORIGINAL-URL:https://guiaeslovaquia.com
X-WR-CALDESC:Eventos para Guía Eslovaquia
BEGIN:VTIMEZONE
TZID:UTC
BEGIN:STANDARD
TZOFFSETFROM:+0000
TZOFFSETTO:+0000
TZNAME:UTC
DTSTART:20170101T000000
END:STANDARD
END:VTIMEZONE
BEGIN:VEVENT
DTSTART;VALUE=DATE:20170623
DTEND;VALUE=DATE:20170626
DTSTAMP:20260421T094438
CREATED:20170201T154640Z
LAST-MODIFIED:20170201T154640Z
UID:979-1498176000-1498435199@guiaeslovaquia.com
SUMMARY:Coronaciones
DESCRIPTION:Bratislava era la ciudad donde se coronaban los reyes y las reinas húngaras por más de 300 años. Hoy en día nos acordamos de esa época famosa cada año\, el último fin de semana de junio. Cada año coronan una reina o un rey (una actriz o un actor) como uno que fue coronado en Bratislava en la época medieval. Este año nos acordaremos de la coronación de Isabel Kristina\, la madre de la famosa Maria Teresa. \nDesde el viernes empieza el mercadillo y diferentes actividades en las plazas del centro de Bratislava. \n
URL:https://guiaeslovaquia.com/event/coronaciones-2/
LOCATION:centro de Bratislava\, Bratislava\, Eslovaquia
ATTACH;FMTTYPE=image/jpeg:https://guiaeslovaquia.com/wp-content/uploads/2016/06/Maria-Terezia-1_447x640.jpg
END:VEVENT
END:VCALENDAR