﻿BEGIN:VCALENDAR
VERSION:2.0
PRODID:-//Guía Eslovaquia - ECPv4.9.14//NONSGML v1.0//EN
CALSCALE:GREGORIAN
METHOD:PUBLISH
X-WR-CALNAME:Guía Eslovaquia
X-ORIGINAL-URL:https://guiaeslovaquia.com
X-WR-CALDESC:Eventos para Guía Eslovaquia
BEGIN:VTIMEZONE
TZID:UTC
BEGIN:STANDARD
TZOFFSETFROM:+0000
TZOFFSETTO:+0000
TZNAME:UTC
DTSTART:20170101T000000
END:STANDARD
END:VTIMEZONE
BEGIN:VEVENT
DTSTART;VALUE=DATE:20170422
DTEND;VALUE=DATE:20170424
DTSTAMP:20260421T094310
CREATED:20170418T090500Z
LAST-MODIFIED:20170418T090500Z
UID:1123-1492819200-1492991999@guiaeslovaquia.com
SUMMARY:Bratislava para todos
DESCRIPTION:Un fin de semana cuando todos los habitantes y visitantes de Bratislava pueden disfrutar de ella. Los museos y las galerías de la ciudad abren gratis y hay muchos eventos en el centro de la ciudad como el mercadillo medieval o cyklofestival\, pero también en otros barrios\, en el ZOO y en el parque Zelezna studienka. \n
URL:https://guiaeslovaquia.com/event/bratislava-para-todos/
LOCATION:Bratislava\, Bratislava\, Eslovaquia
ATTACH;FMTTYPE=image/jpeg:https://guiaeslovaquia.com/wp-content/uploads/2017/04/BPV2-400x267.jpg
END:VEVENT
END:VCALENDAR